Workbook

Sheet Read Me First
B3: Read Me First
B5: 1 | C5: Start with the Client Info tab
B6: 2 | C6: Enter your name and your person 2's name
B7: 3 | C7: Enter person 2's current age
B8: 4 | C8: Go to the Retirement income worksheet tab
B9: 5 | C9: Fill out all tabs in green
B10: 6 | C10: Go to the Retirement income analysis tab
B11: 7 | C11: When your income exceeds your needs, Column G on the tab will turn green
B12: 8 | C12: Change your assumptions again on the Retirement income worksheet to see what you need to do to retire
B13: 9 | C13: If there is no person 2, clear out cells B3, C3, and D3 on Client Info
C14: Set green cells to a vaue of zero on Retirement income worksheet in Column C
C16: ©2020 smilingdad

Sheet Client Info
B1: NAME | C1: GENDER | D1: AGE | E1: PHONE | F1: EMAIL | G1: WORKING (Y/N)
A2: PARTNER 1 | B2: ="Enter Person 1 Name and Age On Client Info Tab" -> Enter Person 1 Name and Age On Client Info Tab | C2: F | D2: 20
A3: PARTNER 2 | B3: ="Enter Person 2 Name and Age On Client Info Tab" -> Enter Person 2 Name and Age On Client Info Tab | C3: M | D3: 20
A4: DISCLAIMER: FOR EDUCATION PURPOSE ONLY. WE DO NOT PROVIDE LEGAL ADVICE, TAX ADVICE OR IMMIGRATION ADVICE

Sheet Retirement income worksheet
A1: Retirement income worksheet | B1: =CONCATENATE("NAME: ",'Client Info'!B2, " & ",'Client Info'!B3) -> NAME: Enter Person 1 Name and Age On Client Info Tab & Enter Person 2 Name and Age On Client Info Tab | E1: =TODAY() -> 44197
B2: =IF('Client Info'!B2="Enter Person 1 Name and Age on Client Info Tab","Enter Person 1 details below",CONCATENATE("Enter ",'Client Info'!B2,"'s details below")) -> Enter Person 1 details below | C2: =IF('Client Info'!B3="Enter Person 2 Name and Age on Client Info Tab","Enter Person 2 details below",CONCATENATE("Enter ",'Client Info'!B3,"'s details below")) -> Enter Person 2 details below | D2: NOTES
A3: Total US Assets Minus House Equity | B3: 10000 | C3: 10000 | D3: Available retirement growth assets at the current moment, for each person
A4: Monthly Retirement Contribution Years 1 To 10 | B4: 325 | C4: 325 | D4: Monthly contribution for years 1 to 10, by person
A5: Monthly Retirement Contribution Years 11+ | B5: 650 | C5: 650 | D5: Monthly contribution for years above 11, by person
A6: Eexpected Annual Growth Rate Of Investments | B6: 0.06 | C6: 0.06 | D6: How much do you expect your investments to grow, compounded, every year?
A7: Expected Inflation Rate | B7: 0.04 | C7: 0.04 | D7: 4% Based On Historical Inflation Over The Last 20 Years
A8: Lifetime Income Rate | B8: 0.04 | C8: 0.04 | D8: How Much Income You Can Expect As A Percentage Of Your Assets At Retirement
A9: Monthly Retirement Income Needed Today | B9: 1000 | C9: 1000 | D9: If You Could Retire Today, How Much Would you Need Every Month?
A10: Annual Retirement Income Needed Today | B10: =B9*12 -> 12000 | C10: =C9*12 -> 12000 | D10: Annual Retirement Income
A11: Age to Claim Social Security | B11: 62 | C11: 62 | D11: Min Age To Claim Is 62, Max Age to Claim Is 70 | E11: Retirement Benefits
A12: Expected Monthly Social Security Income | B12: 1000 | C12: 1000 | D12: Two People Working, Average Benefit Of $1000 Each | E12: my Social Security
A13: RETIREMENT PLANNING | B13: YEARS FROM TODAY | C13: BEGIN YEAR | D13: END YEAR | E13: AMOUNT
A14: =B2 -> Enter Person 1 details below | B14: =B3 -> 10000 | C14: =YEAR(TODAY())+B3 -> 12021 | D14: =C14+#REF! -> #REF! | E14: =#REF!/2 -> #REF!
A15: =C2 -> Enter Person 2 details below | B15: =C3 -> 10000 | C15: =YEAR(TODAY())+C3 -> 12021 | D15: =C15+#REF! -> #REF! | E15: =#REF!/2 -> #REF!
A18: Starting Joint Income | B18: Ending Joint Income | C18: Income Tax Rate | D18: Current Retirement Income | E18: Future Retirement Income
A19: 0 | B19: 19750 | C19: 0.1 | D19: =IF($B$10+$C$10>B19,B19-A19,MAX($B$10+$C$10-A19,0)) -> 19750 | E19: =IF(#REF!>B19,B19-A19,MAX(#REF!-A19,0)) -> #REF!
A20: 19750 | B20: 80250 | C20: 0.12 | D20: =IF($B$10+$C$10>B20,B20-A20,MAX($B$10+$C$10-A20,0)) -> 4250 | E20: =IF(#REF!>B20,B20-A20,MAX(#REF!-A20,0)) -> #REF!
A21: =B20 -> 80250 | B21: 171050 | C21: 0.22 | D21: =IF($B$10+$C$10>B21,B21-A21,MAX($B$10+$C$10-A21,0)) -> 0 | E21: =IF(#REF!>B21,B21-A21,MAX(#REF!-A21,0)) -> #REF!
A22: =B21 -> 171050 | B22: 326600 | C22: 0.24 | D22: =IF($B$10+$C$10>B22,B22-A22,MAX($B$10+$C$10-A22,0)) -> 0 | E22: =IF(#REF!>B22,B22-A22,MAX(#REF!-A22,0)) -> #REF!
A23: =B22 -> 326600 | B23: 414700 | C23: 0.32 | D23: =IF($B$10+$C$10>B23,B23-A23,MAX($B$10+$C$10-A23,0)) -> 0 | E23: =IF(#REF!>B23,B23-A23,MAX(#REF!-A23,0)) -> #REF!
A24: =B23 -> 414700 | B24: 622050 | C24: 0.35 | D24: =IF($B$10+$C$10>B24,B24-A24,MAX($B$10+$C$10-A24,0)) -> 0 | E24: =IF(#REF!>B24,B24-A24,MAX(#REF!-A24,0)) -> #REF!
A25: =B24 -> 622050 | B25: 10000000 | C25: 0.37 | D25: =IF($B$10+$C$10>B25,B25-A25,MAX($B$10+$C$10-A25,0)) -> 0 | E25: =IF(#REF!>B25,B25-A25,MAX(#REF!-A25,0)) -> #REF!
A27: Tax amount | D27: =SUMPRODUCT(C19:C21,D19:D21) -> 2485 | E27: =SUMPRODUCT(C19:C25,E19:E25) -> #REF!
A28: Tax rate | D28: =D27/B10 -> 0.20708333 | E28: =E27/#REF! -> #REF!
A30: CURRENT RETIREMENT INCOME TAX RATE | D30: EXCLUDES SS INCOME, ASSUMES YOU RETIRE TODAY | E30: =IFERROR(D28,0) -> 0.20708333 | F30: Assumes current tax brackets, no deductions, based on row 7
A31: FUTURE RETIREMENT INCOME TAX RATE | D31: INCLUDES SS INCOME | E31: =IFERROR(E28,0) -> 0 | F31: Assumes current tax brackets, no deductions, based on row 11
A34: DISCLAIMER: FOR EDUCATION PURPOSE ONLY. WE DO NOT PROVIDE LEGAL ADVICE, TAX ADVICE OR IMMIGRATION ADVICE

Sheet Retirement income analysis
A1: Retirement income analysis | C1: ='Retirement income worksheet'!E1 -> 44197
A2: ='Client Info'!B2 -> Enter Person 1 Name and Age On Client Info Tab | B2: Current Assets | C2: Monthly Contribution | D2: Beginning of Year Contribution Value | E2: Income Needed Plus Inflation | F2: =CONCATENATE("Income Produced @ ", 'Retirement income worksheet'!B8*100, "% Growth Per Year") -> Income Produced @ 4% Growth Per Year
A3: ='Client Info'!D2 -> 20 | B3: ='Retirement income worksheet'!B3 -> 10000 | C3: ='Retirement income worksheet'!B4 -> 325 | D3: 0 | E3: ='Retirement income worksheet'!B10 -> 12000 | F3: =(B3+D3)*'Retirement income worksheet'!$B$8+IF(A3>='Retirement income worksheet'!$B$11,'Retirement income worksheet'!$B$12*12,0) -> 400
A4: =A3+1 -> 21 | B4: =FV('Retirement income worksheet'!$B$6,1,0,-'Retirement income analysis'!B3) -> 10600 | C4: =C3 -> 325 | D4: =C3*(((1+'Retirement income worksheet'!$B$6/12)^12-1)/('Retirement income worksheet'!$B$6/12)) -> 4009.0578 | E4: =FV('Retirement income worksheet'!$B$7,1,0,-'Retirement income analysis'!E3) -> 12480 | F4: =(B4+D4)*'Retirement income worksheet'!$B$8+IF(A4>='Retirement income worksheet'!$B$11,'Retirement income worksheet'!$B$12*12,0) -> 584.36231
A5: =A4+1 -> 22 | B5: =FV('Retirement income worksheet'!$B$6,1,0,-'Retirement income analysis'!B4) -> 11236 | C5: =C4 -> 325 | D5: =$D$4+D4*(1+'Retirement income worksheet'!$B$6) -> 8258.659 | E5: =FV('Retirement income worksheet'!$B$7,1,0,-'Retirement income analysis'!E4) -> 12979.2 | F5: =(B5+D5)*'Retirement income worksheet'!$B$8+IF(A5>='Retirement income worksheet'!$B$11,'Retirement income worksheet'!$B$12*12,0) -> 779.78636
A6: =A5+1 -> 23 | B6: =FV('Retirement income worksheet'!$B$6,1,0,-'Retirement income analysis'!B5) -> 11910.16 | C6: =C5 -> 325 | D6: =$D$4+D5*(1+'Retirement income worksheet'!$B$6) -> 12763.236 | E6: =FV('Retirement income worksheet'!$B$7,1,0,-'Retirement income analysis'!E5) -> 13498.368 | F6: =(B6+D6)*'Retirement income worksheet'!$B$8+IF(A6>='Retirement income worksheet'!$B$11,'Retirement income worksheet'!$B$12*12,0) -> 986.93585
A7: =A6+1 -> 24 | B7: =FV('Retirement income worksheet'!$B$6,1,0,-'Retirement income analysis'!B6) -> 12624.77 | C7: =C6 -> 325 | D7: =$D$4+D6*(1+'Retirement income worksheet'!$B$6) -> 17538.088 | E7: =FV('Retirement income worksheet'!$B$7,1,0,-'Retirement income analysis'!E6) -> 14038.303 | F7: =(B7+D7)*'Retirement income worksheet'!$B$8+IF(A7>='Retirement income worksheet'!$B$11,'Retirement income worksheet'!$B$12*12,0) -> 1206.5143
A8: =A7+1 -> 25 | B8: =FV('Retirement income worksheet'!$B$6,1,0,-'Retirement income analysis'!B7) -> 13382.256 | C8: =C7 -> 325 | D8: =$D$4+D7*(1+'Retirement income worksheet'!$B$6) -> 22599.431 | E8: =FV('Retirement income worksheet'!$B$7,1,0,-'Retirement income analysis'!E7) -> 14599.835 | F8: =(B8+D8)*'Retirement income worksheet'!$B$8+IF(A8>='Retirement income worksheet'!$B$11,'Retirement income worksheet'!$B$12*12,0) -> 1439.2675
A9: =A8+1 -> 26 | B9: =FV('Retirement income worksheet'!$B$6,1,0,-'Retirement income analysis'!B8) -> 14185.191 | C9: =C8 -> 325 | D9: =$D$4+D8*(1+'Retirement income worksheet'!$B$6) -> 27964.455 | E9: =FV('Retirement income worksheet'!$B$7,1,0,-'Retirement income analysis'!E8) -> 15183.828 | F9: =(B9+D9)*'Retirement income worksheet'!$B$8+IF(A9>='Retirement income worksheet'!$B$11,'Retirement income worksheet'!$B$12*12,0) -> 1685.9858
A10: =A9+1 -> 27 | B10: =FV('Retirement income worksheet'!$B$6,1,0,-'Retirement income analysis'!B9) -> 15036.303 | C10: =C9 -> 325 | D10: =$D$4+D9*(1+'Retirement income worksheet'!$B$6) -> 33651.38 | E10: =FV('Retirement income worksheet'!$B$7,1,0,-'Retirement income analysis'!E9) -> 15791.181 | F10: =(B10+D10)*'Retirement income worksheet'!$B$8+IF(A10>='Retirement income worksheet'!$B$11,'Retirement income worksheet'!$B$12*12,0) -> 1947.5073
A11: =A10+1 -> 28 | B11: =FV('Retirement income worksheet'!$B$6,1,0,-'Retirement income analysis'!B10) -> 15938.481 | C11: =C10 -> 325 | D11: =$D$4+D10*(1+'Retirement income worksheet'!$B$6) -> 39679.521 | E11: =FV('Retirement income worksheet'!$B$7,1,0,-'Retirement income analysis'!E10) -> 16422.829 | F11: =(B11+D11)*'Retirement income worksheet'!$B$8+IF(A11>='Retirement income worksheet'!$B$11,'Retirement income worksheet'!$B$12*12,0) -> 2224.7201
A12: =A11+1 -> 29 | B12: =FV('Retirement income worksheet'!$B$6,1,0,-'Retirement income analysis'!B11) -> 16894.79 | C12: ='Retirement income worksheet'!B5 -> 650 | D12: =C12*(((1+'Retirement income worksheet'!$B$6/12)^12-1)/('Retirement income worksheet'!$B$6/12))+D11*(1+'Retirement income worksheet'!$B$6) -> 50078.407 | E12: =FV('Retirement income worksheet'!$B$7,1,0,-'Retirement income analysis'!E11) -> 17079.742 | F12: =(B12+D12)*'Retirement income worksheet'!$B$8+IF(A12>='Retirement income worksheet'!$B$11,'Retirement income worksheet'!$B$12*12,0) -> 2678.9279
A13: =A12+1 -> 30 | B13: =FV('Retirement income worksheet'!$B$6,1,0,-'Retirement income analysis'!B12) -> 17908.477 | C13: =C12 -> 650 | D13: =C13*(((1+'Retirement income worksheet'!$B$6/12)^12-1)/('Retirement income worksheet'!$B$6/12))+D12*(1+'Retirement income worksheet'!$B$6) -> 61101.227 | E13: =FV('Retirement income worksheet'!$B$7,1,0,-'Retirement income analysis'!E12) -> 17762.931 | F13: =(B13+D13)*'Retirement income worksheet'!$B$8+IF(A13>='Retirement income worksheet'!$B$11,'Retirement income worksheet'!$B$12*12,0) -> 3160.3882
A14: =A13+1 -> 31 | B14: =FV('Retirement income worksheet'!$B$6,1,0,-'Retirement income analysis'!B13) -> 18982.986 | C14: =C13 -> 650 | D14: =C14*(((1+'Retirement income worksheet'!$B$6/12)^12-1)/('Retirement income worksheet'!$B$6/12))+D13*(1+'Retirement income worksheet'!$B$6) -> 72785.417 | E14: =FV('Retirement income worksheet'!$B$7,1,0,-'Retirement income analysis'!E13) -> 18473.449 | F14: =(B14+D14)*'Retirement income worksheet'!$B$8+IF(A14>='Retirement income worksheet'!$B$11,'Retirement income worksheet'!$B$12*12,0) -> 3670.7361
A15: =A14+1 -> 32 | B15: =FV('Retirement income worksheet'!$B$6,1,0,-'Retirement income analysis'!B14) -> 20121.965 | C15: =C14 -> 650 | D15: =C15*(((1+'Retirement income worksheet'!$B$6/12)^12-1)/('Retirement income worksheet'!$B$6/12))+D14*(1+'Retirement income worksheet'!$B$6) -> 85170.657 | E15: =FV('Retirement income worksheet'!$B$7,1,0,-'Retirement income analysis'!E14) -> 19212.387 | F15: =(B15+D15)*'Retirement income worksheet'!$B$8+IF(A15>='Retirement income worksheet'!$B$11,'Retirement income worksheet'!$B$12*12,0) -> 4211.7049
A16: =A15+1 -> 33 | B16: =FV('Retirement income worksheet'!$B$6,1,0,-'Retirement income analysis'!B15) -> 21329.283 | C16: =C15 -> 650 | D16: =C16*(((1+'Retirement income worksheet'!$B$6/12)^12-1)/('Retirement income worksheet'!$B$6/12))+D15*(1+'Retirement income worksheet'!$B$6) -> 98299.012 | E16: =FV('Retirement income worksheet'!$B$7,1,0,-'Retirement income analysis'!E15) -> 19980.882 | F16: =(B16+D16)*'Retirement income worksheet'!$B$8+IF(A16>='Retirement income worksheet'!$B$11,'Retirement income worksheet'!$B$12*12,0) -> 4785.1318
A17: =A16+1 -> 34 | B17: =FV('Retirement income worksheet'!$B$6,1,0,-'Retirement income analysis'!B16) -> 22609.04 | C17: =C16 -> 650 | D17: =C17*(((1+'Retirement income worksheet'!$B$6/12)^12-1)/('Retirement income worksheet'!$B$6/12))+D16*(1+'Retirement income worksheet'!$B$6) -> 112215.07 | E17: =FV('Retirement income worksheet'!$B$7,1,0,-'Retirement income analysis'!E16) -> 20780.117 | F17: =(B17+D17)*'Retirement income worksheet'!$B$8+IF(A17>='Retirement income worksheet'!$B$11,'Retirement income worksheet'!$B$12*12,0) -> 5392.9643
A18: =A17+1 -> 35 | B18: =FV('Retirement income worksheet'!$B$6,1,0,-'Retirement income analysis'!B17) -> 23965.582 | C18: =C17 -> 650 | D18: =C18*(((1+'Retirement income worksheet'!$B$6/12)^12-1)/('Retirement income worksheet'!$B$6/12))+D17*(1+'Retirement income worksheet'!$B$6) -> 126966.09 | E18: =FV('Retirement income worksheet'!$B$7,1,0,-'Retirement income analysis'!E17) -> 21611.322 | F18: =(B18+D18)*'Retirement income worksheet'!$B$8+IF(A18>='Retirement income worksheet'!$B$11,'Retirement income worksheet'!$B$12*12,0) -> 6037.2668
A19: =A18+1 -> 36 | B19: =FV('Retirement income worksheet'!$B$6,1,0,-'Retirement income analysis'!B18) -> 25403.517 | C19: =C18 -> 650 | D19: =C19*(((1+'Retirement income worksheet'!$B$6/12)^12-1)/('Retirement income worksheet'!$B$6/12))+D18*(1+'Retirement income worksheet'!$B$6) -> 142602.17 | E19: =FV('Retirement income worksheet'!$B$7,1,0,-'Retirement income analysis'!E18) -> 22475.775 | F19: =(B19+D19)*'Retirement income worksheet'!$B$8+IF(A19>='Retirement income worksheet'!$B$11,'Retirement income worksheet'!$B$12*12,0) -> 6720.2274
A20: =A19+1 -> 37 | B20: =FV('Retirement income worksheet'!$B$6,1,0,-'Retirement income analysis'!B19) -> 26927.728 | C20: =C19 -> 650 | D20: =C20*(((1+'Retirement income worksheet'!$B$6/12)^12-1)/('Retirement income worksheet'!$B$6/12))+D19*(1+'Retirement income worksheet'!$B$6) -> 159176.41 | E20: =FV('Retirement income worksheet'!$B$7,1,0,-'Retirement income analysis'!E19) -> 23374.806 | F20: =(B20+D20)*'Retirement income worksheet'!$B$8+IF(A20>='Retirement income worksheet'!$B$11,'Retirement income worksheet'!$B$12*12,0) -> 7444.1657
A21: =A20+1 -> 38 | B21: =FV('Retirement income worksheet'!$B$6,1,0,-'Retirement income analysis'!B20) -> 28543.392 | C21: =C20 -> 650 | D21: =C21*(((1+'Retirement income worksheet'!$B$6/12)^12-1)/('Retirement income worksheet'!$B$6/12))+D20*(1+'Retirement income worksheet'!$B$6) -> 176745.11 | E21: =FV('Retirement income worksheet'!$B$7,1,0,-'Retirement income analysis'!E20) -> 24309.798 | F21: =(B21+D21)*'Retirement income worksheet'!$B$8+IF(A21>='Retirement income worksheet'!$B$11,'Retirement income worksheet'!$B$12*12,0) -> 8211.5403
A22: =A21+1 -> 39 | B22: =FV('Retirement income worksheet'!$B$6,1,0,-'Retirement income analysis'!B21) -> 30255.995 | C22: =C21 -> 650 | D22: =C22*(((1+'Retirement income worksheet'!$B$6/12)^12-1)/('Retirement income worksheet'!$B$6/12))+D21*(1+'Retirement income worksheet'!$B$6) -> 195367.94 | E22: =FV('Retirement income worksheet'!$B$7,1,0,-'Retirement income analysis'!E21) -> 25282.19 | F22: =(B22+D22)*'Retirement income worksheet'!$B$8+IF(A22>='Retirement income worksheet'!$B$11,'Retirement income worksheet'!$B$12*12,0) -> 9024.9573
A23: =A22+1 -> 40 | B23: =FV('Retirement income worksheet'!$B$6,1,0,-'Retirement income analysis'!B22) -> 32071.355 | C23: =C22 -> 650 | D23: =C23*(((1+'Retirement income worksheet'!$B$6/12)^12-1)/('Retirement income worksheet'!$B$6/12))+D22*(1+'Retirement income worksheet'!$B$6) -> 215108.13 | E23: =FV('Retirement income worksheet'!$B$7,1,0,-'Retirement income analysis'!E22) -> 26293.478 | F23: =(B23+D23)*'Retirement income worksheet'!$B$8+IF(A23>='Retirement income worksheet'!$B$11,'Retirement income worksheet'!$B$12*12,0) -> 9887.1794
A24: =A23+1 -> 41 | B24: =FV('Retirement income worksheet'!$B$6,1,0,-'Retirement income analysis'!B23) -> 33995.636 | C24: =C23 -> 650 | D24: =C24*(((1+'Retirement income worksheet'!$B$6/12)^12-1)/('Retirement income worksheet'!$B$6/12))+D23*(1+'Retirement income worksheet'!$B$6) -> 236032.73 | E24: =FV('Retirement income worksheet'!$B$7,1,0,-'Retirement income analysis'!E23) -> 27345.217 | F24: =(B24+D24)*'Retirement income worksheet'!$B$8+IF(A24>='Retirement income worksheet'!$B$11,'Retirement income worksheet'!$B$12*12,0) -> 10801.135
... A53: =A52+1 -> 70 | B53: =FV('Retirement income worksheet'!$B$6,1,0,-'Retirement income analysis'!B52) -> 184201.54 | C53: =C52 -> 650 | D53: =C53*(((1+'Retirement income worksheet'!$B$6/12)^12-1)/('Retirement income worksheet'!$B$6/12))+D52*(1+'Retirement income worksheet'!$B$6) -> 1869369.3 | E53: =FV('Retirement income worksheet'!$B$7,1,0,-'Retirement income analysis'!E52) -> 85280.2 | F53: =(B53+D53)*'Retirement income worksheet'!$B$8+IF(A53>='Retirement income worksheet'!$B$11,'Retirement income worksheet'!$B$12*12,0) -> 94142.834
A55: DISCLAIMER: FOR EDUCATION PURPOSE ONLY. WE DO NOT PROVIDE LEGAL ADVICE, TAX ADVICE OR IMMIGRATION ADVICE
A57: ='Client Info'!B3 -> Enter Person 2 Name and Age On Client Info Tab | B57: Current Assets | C57: Monthly Contribution | D57: Beginning of Year Contribution Value | E57: Income Needed Plus Inflation | F57: =CONCATENATE("Income Produced @ ", 'Retirement income worksheet'!C8*100, "% Growth Per Year") -> Income Produced @ 4% Growth Per Year
A58: ='Client Info'!D3 -> 20 | B58: ='Retirement income worksheet'!C3 -> 10000 | C58: =+'Retirement income worksheet'!C4 -> 325 | D58: 0 | E58: ='Retirement income worksheet'!C10 -> 12000 | F58: =(B58+D58)*'Retirement income worksheet'!$C$8+IF(A58>='Retirement income worksheet'!$C$11,'Retirement income worksheet'!$C$12*12,0) -> 400
A59: =A58+1 -> 21 | B59: =FV('Retirement income worksheet'!$C$6,1,0,-'Retirement income analysis'!B58) -> 10600 | C59: =C58 -> 325 | D59: =C58*(((1+'Retirement income worksheet'!$C$6/12)^12-1)/('Retirement income worksheet'!$C$6/12)) -> 4009.0578 | E59: =FV('Retirement income worksheet'!$B$7,1,0,-'Retirement income analysis'!E58) -> 12480 | F59: =(B59+D59)*'Retirement income worksheet'!$C$8+IF(A59>='Retirement income worksheet'!$C$11,'Retirement income worksheet'!$C$12*12,0) -> 584.36231
A60: =A59+1 -> 22 | B60: =FV('Retirement income worksheet'!$C$6,1,0,-'Retirement income analysis'!B59) -> 11236 | C60: =C59 -> 325 | D60: =$D$59+D59*(1+'Retirement income worksheet'!$C$6) -> 8258.659 | E60: =FV('Retirement income worksheet'!$B$7,1,0,-'Retirement income analysis'!E59) -> 12979.2 | F60: =(B60+D60)*'Retirement income worksheet'!$C$8+IF(A60>='Retirement income worksheet'!$C$11,'Retirement income worksheet'!$C$12*12,0) -> 779.78636
A61: =A60+1 -> 23 | B61: =FV('Retirement income worksheet'!$C$6,1,0,-'Retirement income analysis'!B60) -> 11910.16 | C61: =C60 -> 325 | D61: =$D$59+D60*(1+'Retirement income worksheet'!$C$6) -> 12763.236 | E61: =FV('Retirement income worksheet'!$B$7,1,0,-'Retirement income analysis'!E60) -> 13498.368 | F61: =(B61+D61)*'Retirement income worksheet'!$C$8+IF(A61>='Retirement income worksheet'!$C$11,'Retirement income worksheet'!$C$12*12,0) -> 986.93585
A62: =A61+1 -> 24 | B62: =FV('Retirement income worksheet'!$C$6,1,0,-'Retirement income analysis'!B61) -> 12624.77 | C62: =C61 -> 325 | D62: =$D$59+D61*(1+'Retirement income worksheet'!$C$6) -> 17538.088 | E62: =FV('Retirement income worksheet'!$B$7,1,0,-'Retirement income analysis'!E61) -> 14038.303 | F62: =(B62+D62)*'Retirement income worksheet'!$C$8+IF(A62>='Retirement income worksheet'!$C$11,'Retirement income worksheet'!$C$12*12,0) -> 1206.5143
A63: =A62+1 -> 25 | B63: =FV('Retirement income worksheet'!$C$6,1,0,-'Retirement income analysis'!B62) -> 13382.256 | C63: =C62 -> 325 | D63: =$D$59+D62*(1+'Retirement income worksheet'!$C$6) -> 22599.431 | E63: =FV('Retirement income worksheet'!$B$7,1,0,-'Retirement income analysis'!E62) -> 14599.835 | F63: =(B63+D63)*'Retirement income worksheet'!$C$8+IF(A63>='Retirement income worksheet'!$C$11,'Retirement income worksheet'!$C$12*12,0) -> 1439.2675
A64: =A63+1 -> 26 | B64: =FV('Retirement income worksheet'!$C$6,1,0,-'Retirement income analysis'!B63) -> 14185.191 | C64: =C63 -> 325 | D64: =$D$59+D63*(1+'Retirement income worksheet'!$C$6) -> 27964.455 | E64: =FV('Retirement income worksheet'!$B$7,1,0,-'Retirement income analysis'!E63) -> 15183.828 | F64: =(B64+D64)*'Retirement income worksheet'!$C$8+IF(A64>='Retirement income worksheet'!$C$11,'Retirement income worksheet'!$C$12*12,0) -> 1685.9858
A65: =A64+1 -> 27 | B65: =FV('Retirement income worksheet'!$C$6,1,0,-'Retirement income analysis'!B64) -> 15036.303 | C65: =C64 -> 325 | D65: =$D$59+D64*(1+'Retirement income worksheet'!$C$6) -> 33651.38 | E65: =FV('Retirement income worksheet'!$B$7,1,0,-'Retirement income analysis'!E64) -> 15791.181 | F65: =(B65+D65)*'Retirement income worksheet'!$C$8+IF(A65>='Retirement income worksheet'!$C$11,'Retirement income worksheet'!$C$12*12,0) -> 1947.5073
A66: =A65+1 -> 28 | B66: =FV('Retirement income worksheet'!$C$6,1,0,-'Retirement income analysis'!B65) -> 15938.481 | C66: =C65 -> 325 | D66: =$D$59+D65*(1+'Retirement income worksheet'!$C$6) -> 39679.521 | E66: =FV('Retirement income worksheet'!$B$7,1,0,-'Retirement income analysis'!E65) -> 16422.829 | F66: =(B66+D66)*'Retirement income worksheet'!$C$8+IF(A66>='Retirement income worksheet'!$C$11,'Retirement income worksheet'!$C$12*12,0) -> 2224.7201
A67: =A66+1 -> 29 | B67: =FV('Retirement income worksheet'!$C$6,1,0,-'Retirement income analysis'!B66) -> 16894.79 | C67: =+'Retirement income worksheet'!C5 -> 650 | D67: =C12*(((1+'Retirement income worksheet'!$C$6/12)^12-1)/('Retirement income worksheet'!$C$6/12))+D11*(1+'Retirement income worksheet'!$C$6) -> 50078.407 | E67: =FV('Retirement income worksheet'!$B$7,1,0,-'Retirement income analysis'!E66) -> 17079.742 | F67: =(B67+D67)*'Retirement income worksheet'!$C$8+IF(A67>='Retirement income worksheet'!$C$11,'Retirement income worksheet'!$C$12*12,0) -> 2678.9279
A68: =A67+1 -> 30 | B68: =FV('Retirement income worksheet'!$C$6,1,0,-'Retirement income analysis'!B67) -> 17908.477 | C68: =C67 -> 650 | D68: =C67*(((1+'Retirement income worksheet'!$C$6/12)^12-1)/('Retirement income worksheet'!$C$6/12))+D12*(1+'Retirement income worksheet'!$C$6) -> 61101.227 | E68: =FV('Retirement income worksheet'!$B$7,1,0,-'Retirement income analysis'!E67) -> 17762.931 | F68: =(B68+D68)*'Retirement income worksheet'!$C$8+IF(A68>='Retirement income worksheet'!$C$11,'Retirement income worksheet'!$C$12*12,0) -> 3160.3882
A69: =A68+1 -> 31 | B69: =FV('Retirement income worksheet'!$C$6,1,0,-'Retirement income analysis'!B68) -> 18982.986 | C69: =C68 -> 650 | D69: =C68*(((1+'Retirement income worksheet'!$C$6/12)^12-1)/('Retirement income worksheet'!$C$6/12))+D13*(1+'Retirement income worksheet'!$C$6) -> 72785.417 | E69: =FV('Retirement income worksheet'!$B$7,1,0,-'Retirement income analysis'!E68) -> 18473.449 | F69: =(B69+D69)*'Retirement income worksheet'!$C$8+IF(A69>='Retirement income worksheet'!$C$11,'Retirement income worksheet'!$C$12*12,0) -> 3670.7361
A70: =A69+1 -> 32 | B70: =FV('Retirement income worksheet'!$C$6,1,0,-'Retirement income analysis'!B69) -> 20121.965 | C70: =C69 -> 650 | D70: =C69*(((1+'Retirement income worksheet'!$C$6/12)^12-1)/('Retirement income worksheet'!$C$6/12))+D14*(1+'Retirement income worksheet'!$C$6) -> 85170.657 | E70: =FV('Retirement income worksheet'!$B$7,1,0,-'Retirement income analysis'!E69) -> 19212.387 | F70: =(B70+D70)*'Retirement income worksheet'!$C$8+IF(A70>='Retirement income worksheet'!$C$11,'Retirement income worksheet'!$C$12*12,0) -> 4211.7049
...
