Workbook
Name Person1USAssets: 'Retirement income worksheet'!$B$3
Name Person2USAssets: 'Retirement income worksheet'!$C$3

Sheet Read Me First
B3: Read Me First
B5: 1 | C5: Start with the Client Info tab
B6: 2 | C6: Enter your name and your person 2's name
B7: 3 | C7: Enter person 2's current age
B8: 4 | C8: Estimate your retirement expenses on the Client Info tab
B9: =B8+1 -> 5 | C9: Go to the Retirement income worksheet tab
B10: =B9+1 -> 6 | C10: Fill out all tabs in green. If there is more than a five year age difference, put assets towards person who retires first.
B11: =B10+1 -> 7 | C11: Go to the Person 1 and Person 2 charts to see when the green line crosses above the orange. That's when you can retire.
B12: =B11+1 -> 8 | C12: Change your assumptions again on the Retirement income worksheet to see what you need to do to retire. Update the sheet every 3 months.
B13: =B12+1 -> 9 | C13: If there is no person 2, clear out cells B3, C3, and D3 on Client Info
C14: Set green cells to a vaue of zero on Retirement income worksheet in Column C
C16: ©2021 smilingdad

Sheet Client Info
B1: NAME | C1: GENDER | D1: AGE
A2: PARTNER 1 | B2: ="Enter Person 1 Name and Age On Client Info Tab" -> Enter Person 1 Name and Age On Client Info Tab | C2: F | D2: 20
A3: PARTNER 2 | B3: ="Enter Person 2 Name and Age On Client Info Tab" -> Enter Person 2 Name and Age On Client Info Tab | C3: M | D3: 20
B5: Retirement Monthly Expenses Today
A6: Taxes | B6: 750
A7: Charity | B7: 0
A8: All Debts | B8: 0
A9: Cars | B9: 143
A10: Food | B10: 150
A11: Healthcare | B11: 250
A12: Insurance | B12: 100
A13: Utilities | B13: 175
A14: Travel | B14: 250
A15: Entertainment | B15: 0
A16: Extra | B16: 0.1
A17: Total | B17: =ROUNDUP(SUM(B6:B14)*(1+B16),0) -> 2000
A19: DISCLAIMER: FOR EDUCATION PURPOSE ONLY. WE DO NOT PROVIDE LEGAL ADVICE, TAX ADVICE OR IMMIGRATION ADVICE

Sheet Retirement income worksheet
A1: Retirement income worksheet | B1: =CONCATENATE("NAME: ",'Client Info'!B2, " & ",'Client Info'!B3) -> NAME: Enter Person 1 Name and Age On Client Info Tab & Enter Person 2 Name and Age On Client Info Tab | E1: =TODAY() -> 44223
B2: =IF('Client Info'!B2="Enter Person 1 Name and Age on Client Info Tab","Enter Person 1 details below",CONCATENATE("Enter ",'Client Info'!B2,"'s details below")) -> Enter Person 1 details below | C2: =IF('Client Info'!B3="Enter Person 2 Name and Age on Client Info Tab","Enter Person 2 details below",CONCATENATE("Enter ",'Client Info'!B3,"'s details below")) -> Enter Person 2 details below | D2: NOTES
A3: Total US Assets Minus House Equity Minus Personal Expenses (Retirement Assets Only) | B3: 10000 | C3: 10000 | D3: Available retirement growth assets at the current moment, for each person
A4: Monthly Retirement Contribution Up to Age 50 | B4: 325 | C4: 325 | D4: Monthly contribution for years 1 to 10, by person
A5: Monthly Retirement Contribution For Years 50 and above | B5: 650 | C5: 650 | D5: Monthly contribution for years above 11, by person
A6: Eexpected Annual Growth Rate Of Investments | B6: 0.06 | C6: 0.06 | D6: How much do you expect your investments to grow, compounded, every year?
A7: Expected Inflation Rate | B7: 0.03 | C7: 0.03 | D7: 4% Based On Historical Inflation Over The Last 20 Years
A8: Lifetime Income Rate | B8: 0.04 | C8: 0.04 | D8: How Much Income You Can Expect As A Percentage Of Your Assets At Retirement
A9: Monthly Retirement Income Needed Today | B9: ='Client Info'!B17/2 -> 1000 | C9: ='Client Info'!B17/2 -> 1000 | D9: If You Could Retire Today, How Much Would you Need Every Month?
A10: Annual Retirement Income Needed Today | B10: =B9*12 -> 12000 | C10: =C9*12 -> 12000 | D10: Annual Retirement Income needed, per person
A11: Age to Start Other Available Retirement Income | B11: 62 | C11: 62 | D11: Age to start other retirement income
A12: Other Available Retirement Income | B12: 1000 | C12: 1000 | D12: This includes rental income, annuities, indexed universal life policies, pensions, part-time work, anything that will supplement your retirement income
A13: Age to Claim Social Security | B13: 62 | C13: 62 | D13: Min Age To Claim Is 62, Max Age to Claim Is 70 | E13: Retirement Benefits
A14: Expected Monthly Social Security Income | B14: 1000 | C14: 1000 | D14: Two People Working, Average Benefit Of $1000 Each | E14: my Social Security
A15: RETIREMENT PLANNING | B15: YEARS FROM TODAY | C15: BEGIN YEAR | D15: END YEAR | E15: AMOUNT
A16: =B2 -> Enter Person 1 details below | B16: =B3 -> 10000 | C16: =YEAR(TODAY())+B3 -> 12021 | D16: =C16+#REF! -> #REF! | E16: =#REF!/2 -> #REF!
A17: =C2 -> Enter Person 2 details below | B17: =C3 -> 10000 | C17: =YEAR(TODAY())+C3 -> 12021 | D17: =C17+#REF! -> #REF! | E17: =#REF!/2 -> #REF!
A20: Starting Joint Income | B20: Ending Joint Income | C20: Income Tax Rate | D20: Current Retirement Income | E20: Future Retirement Income
A21: 0 | B21: 19750 | C21: 0.1 | D21: =IF($B$10+$C$10>B21,B21-A21,MAX($B$10+$C$10-A21,0)) -> 19750 | E21: =IF(#REF!>B21,B21-A21,MAX(#REF!-A21,0)) -> #REF!
A22: 19750 | B22: 80250 | C22: 0.12 | D22: =IF($B$10+$C$10>B22,B22-A22,MAX($B$10+$C$10-A22,0)) -> 4250 | E22: =IF(#REF!>B22,B22-A22,MAX(#REF!-A22,0)) -> #REF!
A23: =B22 -> 80250 | B23: 171050 | C23: 0.22 | D23: =IF($B$10+$C$10>B23,B23-A23,MAX($B$10+$C$10-A23,0)) -> 0 | E23: =IF(#REF!>B23,B23-A23,MAX(#REF!-A23,0)) -> #REF!
A24: =B23 -> 171050 | B24: 326600 | C24: 0.24 | D24: =IF($B$10+$C$10>B24,B24-A24,MAX($B$10+$C$10-A24,0)) -> 0 | E24: =IF(#REF!>B24,B24-A24,MAX(#REF!-A24,0)) -> #REF!
A25: =B24 -> 326600 | B25: 414700 | C25: 0.32 | D25: =IF($B$10+$C$10>B25,B25-A25,MAX($B$10+$C$10-A25,0)) -> 0 | E25: =IF(#REF!>B25,B25-A25,MAX(#REF!-A25,0)) -> #REF!
A26: =B25 -> 414700 | B26: 622050 | C26: 0.35 | D26: =IF($B$10+$C$10>B26,B26-A26,MAX($B$10+$C$10-A26,0)) -> 0 | E26: =IF(#REF!>B26,B26-A26,MAX(#REF!-A26,0)) -> #REF!
A27: =B26 -> 622050 | B27: 10000000 | C27: 0.37 | D27: =IF($B$10+$C$10>B27,B27-A27,MAX($B$10+$C$10-A27,0)) -> 0 | E27: =IF(#REF!>B27,B27-A27,MAX(#REF!-A27,0)) -> #REF!
A29: Tax amount | D29: =SUMPRODUCT(C21:C23,D21:D23) -> 2485 | E29: =SUMPRODUCT(C21:C27,E21:E27) -> #REF!
A30: Tax rate | D30: =D29/B10 -> 0.20708333 | E30: =E29/#REF! -> #REF!
A32: CURRENT RETIREMENT INCOME TAX RATE | D32: EXCLUDES SS INCOME, ASSUMES YOU RETIRE TODAY | E32: =IFERROR(D30,0) -> 0.20708333 | F32: Assumes current tax brackets, no deductions, based on row 7
A33: FUTURE RETIREMENT INCOME TAX RATE | D33: INCLUDES SS INCOME | E33: =IFERROR(E30,0) -> 0 | F33: Assumes current tax brackets, no deductions, based on row 11
A36: DISCLAIMER: FOR EDUCATION PURPOSE ONLY. WE DO NOT PROVIDE LEGAL ADVICE, TAX ADVICE OR IMMIGRATION ADVICE

Sheet Retirement income analysis
A1: Retirement income analysis | C1: ='Retirement income worksheet'!E1 -> 44223
A2: ='Client Info'!B2 -> Enter Person 1 Name and Age On Client Info Tab | B2: Current Assets | C2: Monthly Contribution | D2: Beginning of Year Contribution Value | E2: Income Needed Plus Inflation | F2: =CONCATENATE("Income Produced @ ", 'Retirement income worksheet'!B8*100, "% Growth Per Year") -> Income Produced @ 4% Growth Per Year
A3: ='Client Info'!D2 -> 20 | B3: =Person1USAssets -> 10000 | C3: =IF(A3<50,'Retirement income worksheet'!$B$4,'Retirement income worksheet'!$B$5) -> 325 | D3: 0 | E3: ='Retirement income worksheet'!B10 -> 12000 | F3: =(B3+D3)*'Retirement income worksheet'!$B$8+IF(A3>='Retirement income worksheet'!$B$13,'Retirement income worksheet'!$B$14*12,0)+IF(A3>='Retirement income worksheet'!$B$11,'Retirement income worksheet'!$B$12*12,0) -> 400
A4: =A3+1 -> 21 | B4: =FV('Retirement income worksheet'!$B$6,1,0,-'Retirement income analysis'!B3) -> 10600 | C4: =IF(A4<50,'Retirement income worksheet'!$B$4,'Retirement income worksheet'!$B$5) -> 325 | D4: =C3*(((1+'Retirement income worksheet'!$B$6/12)^12-1)/('Retirement income worksheet'!$B$6/12)) -> 4009.0578 | E4: =FV('Retirement income worksheet'!$B$7,1,0,-'Retirement income analysis'!E3) -> 12360 | F4: =(B4+D4)*'Retirement income worksheet'!$B$8+IF(A4>='Retirement income worksheet'!$B$13,'Retirement income worksheet'!$B$14*12,0)+IF(A4>='Retirement income worksheet'!$B$11,'Retirement income worksheet'!$B$12*12,0) -> 584.36231
A5: =A4+1 -> 22 | B5: =FV('Retirement income worksheet'!$B$6,1,0,-'Retirement income analysis'!B4) -> 11236 | C5: =IF(A5<50,'Retirement income worksheet'!$B$4,'Retirement income worksheet'!$B$5) -> 325 | D5: =$D$4+D4*(1+'Retirement income worksheet'!$B$6) -> 8258.659 | E5: =FV('Retirement income worksheet'!$B$7,1,0,-'Retirement income analysis'!E4) -> 12730.8 | F5: =(B5+D5)*'Retirement income worksheet'!$B$8+IF(A5>='Retirement income worksheet'!$B$13,'Retirement income worksheet'!$B$14*12,0)+IF(A5>='Retirement income worksheet'!$B$11,'Retirement income worksheet'!$B$12*12,0) -> 779.78636
A6: =A5+1 -> 23 | B6: =FV('Retirement income worksheet'!$B$6,1,0,-'Retirement income analysis'!B5) -> 11910.16 | C6: =IF(A6<50,'Retirement income worksheet'!$B$4,'Retirement income worksheet'!$B$5) -> 325 | D6: =$D$4+D5*(1+'Retirement income worksheet'!$B$6) -> 12763.236 | E6: =FV('Retirement income worksheet'!$B$7,1,0,-'Retirement income analysis'!E5) -> 13112.724 | F6: =(B6+D6)*'Retirement income worksheet'!$B$8+IF(A6>='Retirement income worksheet'!$B$13,'Retirement income worksheet'!$B$14*12,0)+IF(A6>='Retirement income worksheet'!$B$11,'Retirement income worksheet'!$B$12*12,0) -> 986.93585
A7: =A6+1 -> 24 | B7: =FV('Retirement income worksheet'!$B$6,1,0,-'Retirement income analysis'!B6) -> 12624.77 | C7: =IF(A7<50,'Retirement income worksheet'!$B$4,'Retirement income worksheet'!$B$5) -> 325 | D7: =$D$4+D6*(1+'Retirement income worksheet'!$B$6) -> 17538.088 | E7: =FV('Retirement income worksheet'!$B$7,1,0,-'Retirement income analysis'!E6) -> 13506.106 | F7: =(B7+D7)*'Retirement income worksheet'!$B$8+IF(A7>='Retirement income worksheet'!$B$13,'Retirement income worksheet'!$B$14*12,0)+IF(A7>='Retirement income worksheet'!$B$11,'Retirement income worksheet'!$B$12*12,0) -> 1206.5143
A8: =A7+1 -> 25 | B8: =FV('Retirement income worksheet'!$B$6,1,0,-'Retirement income analysis'!B7) -> 13382.256 | C8: =IF(A8<50,'Retirement income worksheet'!$B$4,'Retirement income worksheet'!$B$5) -> 325 | D8: =$D$4+D7*(1+'Retirement income worksheet'!$B$6) -> 22599.431 | E8: =FV('Retirement income worksheet'!$B$7,1,0,-'Retirement income analysis'!E7) -> 13911.289 | F8: =(B8+D8)*'Retirement income worksheet'!$B$8+IF(A8>='Retirement income worksheet'!$B$13,'Retirement income worksheet'!$B$14*12,0)+IF(A8>='Retirement income worksheet'!$B$11,'Retirement income worksheet'!$B$12*12,0) -> 1439.2675
A9: =A8+1 -> 26 | B9: =FV('Retirement income worksheet'!$B$6,1,0,-'Retirement income analysis'!B8) -> 14185.191 | C9: =IF(A9<50,'Retirement income worksheet'!$B$4,'Retirement income worksheet'!$B$5) -> 325 | D9: =$D$4+D8*(1+'Retirement income worksheet'!$B$6) -> 27964.455 | E9: =FV('Retirement income worksheet'!$B$7,1,0,-'Retirement income analysis'!E8) -> 14328.628 | F9: =(B9+D9)*'Retirement income worksheet'!$B$8+IF(A9>='Retirement income worksheet'!$B$13,'Retirement income worksheet'!$B$14*12,0)+IF(A9>='Retirement income worksheet'!$B$11,'Retirement income worksheet'!$B$12*12,0) -> 1685.9858
A10: =A9+1 -> 27 | B10: =FV('Retirement income worksheet'!$B$6,1,0,-'Retirement income analysis'!B9) -> 15036.303 | C10: =IF(A10<50,'Retirement income worksheet'!$B$4,'Retirement income worksheet'!$B$5) -> 325 | D10: =$D$4+D9*(1+'Retirement income worksheet'!$B$6) -> 33651.38 | E10: =FV('Retirement income worksheet'!$B$7,1,0,-'Retirement income analysis'!E9) -> 14758.486 | F10: =(B10+D10)*'Retirement income worksheet'!$B$8+IF(A10>='Retirement income worksheet'!$B$13,'Retirement income worksheet'!$B$14*12,0)+IF(A10>='Retirement income worksheet'!$B$11,'Retirement income worksheet'!$B$12*12,0) -> 1947.5073
A11: =A10+1 -> 28 | B11: =FV('Retirement income worksheet'!$B$6,1,0,-'Retirement income analysis'!B10) -> 15938.481 | C11: =IF(A11<50,'Retirement income worksheet'!$B$4,'Retirement income worksheet'!$B$5) -> 325 | D11: =$D$4+D10*(1+'Retirement income worksheet'!$B$6) -> 39679.521 | E11: =FV('Retirement income worksheet'!$B$7,1,0,-'Retirement income analysis'!E10) -> 15201.241 | F11: =(B11+D11)*'Retirement income worksheet'!$B$8+IF(A11>='Retirement income worksheet'!$B$13,'Retirement income worksheet'!$B$14*12,0)+IF(A11>='Retirement income worksheet'!$B$11,'Retirement income worksheet'!$B$12*12,0) -> 2224.7201
A12: =A11+1 -> 29 | B12: =FV('Retirement income worksheet'!$B$6,1,0,-'Retirement income analysis'!B11) -> 16894.79 | C12: =IF(A12<50,'Retirement income worksheet'!$B$4,'Retirement income worksheet'!$B$5) -> 325 | D12: =C12*(((1+'Retirement income worksheet'!$B$6/12)^12-1)/('Retirement income worksheet'!$B$6/12))+D11*(1+'Retirement income worksheet'!$B$6) -> 46069.35 | E12: =FV('Retirement income worksheet'!$B$7,1,0,-'Retirement income analysis'!E11) -> 15657.278 | F12: =(B12+D12)*'Retirement income worksheet'!$B$8+IF(A12>='Retirement income worksheet'!$B$13,'Retirement income worksheet'!$B$14*12,0)+IF(A12>='Retirement income worksheet'!$B$11,'Retirement income worksheet'!$B$12*12,0) -> 2518.5656
A13: =A12+1 -> 30 | B13: =FV('Retirement income worksheet'!$B$6,1,0,-'Retirement income analysis'!B12) -> 17908.477 | C13: =IF(A13<50,'Retirement income worksheet'!$B$4,'Retirement income worksheet'!$B$5) -> 325 | D13: =C13*(((1+'Retirement income worksheet'!$B$6/12)^12-1)/('Retirement income worksheet'!$B$6/12))+D12*(1+'Retirement income worksheet'!$B$6) -> 52842.568 | E13: =FV('Retirement income worksheet'!$B$7,1,0,-'Retirement income analysis'!E12) -> 16126.997 | F13: =(B13+D13)*'Retirement income worksheet'!$B$8+IF(A13>='Retirement income worksheet'!$B$13,'Retirement income worksheet'!$B$14*12,0)+IF(A13>='Retirement income worksheet'!$B$11,'Retirement income worksheet'!$B$12*12,0) -> 2830.0418
A14: =A13+1 -> 31 | B14: =FV('Retirement income worksheet'!$B$6,1,0,-'Retirement income analysis'!B13) -> 18982.986 | C14: =IF(A14<50,'Retirement income worksheet'!$B$4,'Retirement income worksheet'!$B$5) -> 325 | D14: =C14*(((1+'Retirement income worksheet'!$B$6/12)^12-1)/('Retirement income worksheet'!$B$6/12))+D13*(1+'Retirement income worksheet'!$B$6) -> 60022.18 | E14: =FV('Retirement income worksheet'!$B$7,1,0,-'Retirement income analysis'!E13) -> 16610.806 | F14: =(B14+D14)*'Retirement income worksheet'!$B$8+IF(A14>='Retirement income worksheet'!$B$13,'Retirement income worksheet'!$B$14*12,0)+IF(A14>='Retirement income worksheet'!$B$11,'Retirement income worksheet'!$B$12*12,0) -> 3160.2066
A15: =A14+1 -> 32 | B15: =FV('Retirement income worksheet'!$B$6,1,0,-'Retirement income analysis'!B14) -> 20121.965 | C15: =IF(A15<50,'Retirement income worksheet'!$B$4,'Retirement income worksheet'!$B$5) -> 325 | D15: =C15*(((1+'Retirement income worksheet'!$B$6/12)^12-1)/('Retirement income worksheet'!$B$6/12))+D14*(1+'Retirement income worksheet'!$B$6) -> 67632.569 | E15: =FV('Retirement income worksheet'!$B$7,1,0,-'Retirement income analysis'!E14) -> 17109.131 | F15: =(B15+D15)*'Retirement income worksheet'!$B$8+IF(A15>='Retirement income worksheet'!$B$13,'Retirement income worksheet'!$B$14*12,0)+IF(A15>='Retirement income worksheet'!$B$11,'Retirement income worksheet'!$B$12*12,0) -> 3510.1813
A16: =A15+1 -> 33 | B16: =FV('Retirement income worksheet'!$B$6,1,0,-'Retirement income analysis'!B15) -> 21329.283 | C16: =IF(A16<50,'Retirement income worksheet'!$B$4,'Retirement income worksheet'!$B$5) -> 325 | D16: =C16*(((1+'Retirement income worksheet'!$B$6/12)^12-1)/('Retirement income worksheet'!$B$6/12))+D15*(1+'Retirement income worksheet'!$B$6) -> 75699.581 | E16: =FV('Retirement income worksheet'!$B$7,1,0,-'Retirement income analysis'!E15) -> 17622.405 | F16: =(B16+D16)*'Retirement income worksheet'!$B$8+IF(A16>='Retirement income worksheet'!$B$13,'Retirement income worksheet'!$B$14*12,0)+IF(A16>='Retirement income worksheet'!$B$11,'Retirement income worksheet'!$B$12*12,0) -> 3881.1545
A17: =A16+1 -> 34 | B17: =FV('Retirement income worksheet'!$B$6,1,0,-'Retirement income analysis'!B16) -> 22609.04 | C17: =IF(A17<50,'Retirement income worksheet'!$B$4,'Retirement income worksheet'!$B$5) -> 325 | D17: =C17*(((1+'Retirement income worksheet'!$B$6/12)^12-1)/('Retirement income worksheet'!$B$6/12))+D16*(1+'Retirement income worksheet'!$B$6) -> 84250.613 | E17: =FV('Retirement income worksheet'!$B$7,1,0,-'Retirement income analysis'!E16) -> 18151.077 | F17: =(B17+D17)*'Retirement income worksheet'!$B$8+IF(A17>='Retirement income worksheet'!$B$13,'Retirement income worksheet'!$B$14*12,0)+IF(A17>='Retirement income worksheet'!$B$11,'Retirement income worksheet'!$B$12*12,0) -> 4274.3861
A18: =A17+1 -> 35 | B18: =FV('Retirement income worksheet'!$B$6,1,0,-'Retirement income analysis'!B17) -> 23965.582 | C18: =IF(A18<50,'Retirement income worksheet'!$B$4,'Retirement income worksheet'!$B$5) -> 325 | D18: =C18*(((1+'Retirement income worksheet'!$B$6/12)^12-1)/('Retirement income worksheet'!$B$6/12))+D17*(1+'Retirement income worksheet'!$B$6) -> 93314.708 | E18: =FV('Retirement income worksheet'!$B$7,1,0,-'Retirement income analysis'!E17) -> 18695.609 | F18: =(B18+D18)*'Retirement income worksheet'!$B$8+IF(A18>='Retirement income worksheet'!$B$13,'Retirement income worksheet'!$B$14*12,0)+IF(A18>='Retirement income worksheet'!$B$11,'Retirement income worksheet'!$B$12*12,0) -> 4691.2116
A19: =A18+1 -> 36 | B19: =FV('Retirement income worksheet'!$B$6,1,0,-'Retirement income analysis'!B18) -> 25403.517 | C19: =IF(A19<50,'Retirement income worksheet'!$B$4,'Retirement income worksheet'!$B$5) -> 325 | D19: =C19*(((1+'Retirement income worksheet'!$B$6/12)^12-1)/('Retirement income worksheet'!$B$6/12))+D18*(1+'Retirement income worksheet'!$B$6) -> 102922.65 | E19: =FV('Retirement income worksheet'!$B$7,1,0,-'Retirement income analysis'!E18) -> 19256.477 | F19: =(B19+D19)*'Retirement income worksheet'!$B$8+IF(A19>='Retirement income worksheet'!$B$13,'Retirement income worksheet'!$B$14*12,0)+IF(A19>='Retirement income worksheet'!$B$11,'Retirement income worksheet'!$B$12*12,0) -> 5133.0466
A20: =A19+1 -> 37 | B20: =FV('Retirement income worksheet'!$B$6,1,0,-'Retirement income analysis'!B19) -> 26927.728 | C20: =IF(A20<50,'Retirement income worksheet'!$B$4,'Retirement income worksheet'!$B$5) -> 325 | D20: =C20*(((1+'Retirement income worksheet'!$B$6/12)^12-1)/('Retirement income worksheet'!$B$6/12))+D19*(1+'Retirement income worksheet'!$B$6) -> 113107.06 | E20: =FV('Retirement income worksheet'!$B$7,1,0,-'Retirement income analysis'!E19) -> 19834.172 | F20: =(B20+D20)*'Retirement income worksheet'!$B$8+IF(A20>='Retirement income worksheet'!$B$13,'Retirement income worksheet'!$B$14*12,0)+IF(A20>='Retirement income worksheet'!$B$11,'Retirement income worksheet'!$B$12*12,0) -> 5601.3917
A21: =A20+1 -> 38 | B21: =FV('Retirement income worksheet'!$B$6,1,0,-'Retirement income analysis'!B20) -> 28543.392 | C21: =IF(A21<50,'Retirement income worksheet'!$B$4,'Retirement income worksheet'!$B$5) -> 325 | D21: =C21*(((1+'Retirement income worksheet'!$B$6/12)^12-1)/('Retirement income worksheet'!$B$6/12))+D20*(1+'Retirement income worksheet'!$B$6) -> 123902.55 | E21: =FV('Retirement income worksheet'!$B$7,1,0,-'Retirement income analysis'!E20) -> 20429.197 | F21: =(B21+D21)*'Retirement income worksheet'!$B$8+IF(A21>='Retirement income worksheet'!$B$13,'Retirement income worksheet'!$B$14*12,0)+IF(A21>='Retirement income worksheet'!$B$11,'Retirement income worksheet'!$B$12*12,0) -> 6097.8375
A22: =A21+1 -> 39 | B22: =FV('Retirement income worksheet'!$B$6,1,0,-'Retirement income analysis'!B21) -> 30255.995 | C22: =IF(A22<50,'Retirement income worksheet'!$B$4,'Retirement income worksheet'!$B$5) -> 325 | D22: =C22*(((1+'Retirement income worksheet'!$B$6/12)^12-1)/('Retirement income worksheet'!$B$6/12))+D21*(1+'Retirement income worksheet'!$B$6) -> 135345.76 | E22: =FV('Retirement income worksheet'!$B$7,1,0,-'Retirement income analysis'!E21) -> 21042.073 | F22: =(B22+D22)*'Retirement income worksheet'!$B$8+IF(A22>='Retirement income worksheet'!$B$13,'Retirement income worksheet'!$B$14*12,0)+IF(A22>='Retirement income worksheet'!$B$11,'Retirement income worksheet'!$B$12*12,0) -> 6624.0701
A23: =A22+1 -> 40 | B23: =FV('Retirement income worksheet'!$B$6,1,0,-'Retirement income analysis'!B22) -> 32071.355 | C23: =IF(A23<50,'Retirement income worksheet'!$B$4,'Retirement income worksheet'!$B$5) -> 325 | D23: =C23*(((1+'Retirement income worksheet'!$B$6/12)^12-1)/('Retirement income worksheet'!$B$6/12))+D22*(1+'Retirement income worksheet'!$B$6) -> 147475.56 | E23: =FV('Retirement income worksheet'!$B$7,1,0,-'Retirement income analysis'!E22) -> 21673.335 | F23: =(B23+D23)*'Retirement income worksheet'!$B$8+IF(A23>='Retirement income worksheet'!$B$13,'Retirement income worksheet'!$B$14*12,0)+IF(A23>='Retirement income worksheet'!$B$11,'Retirement income worksheet'!$B$12*12,0) -> 7181.8766
... A53: =A52+1 -> 70 | B53: =FV('Retirement income worksheet'!$B$6,1,0,-'Retirement income analysis'!B52) -> 184201.54 | C53: =IF(A53<50,'Retirement income worksheet'!$B$4,'Retirement income worksheet'!$B$5) -> 650 | D53: =C53*(((1+'Retirement income worksheet'!$B$6/12)^12-1)/('Retirement income worksheet'!$B$6/12))+D52*(1+'Retirement income worksheet'!$B$6) -> 1324306.6 | E53: =FV('Retirement income worksheet'!$B$7,1,0,-'Retirement income analysis'!E52) -> 52606.872 | F53: =(B53+D53)*'Retirement income worksheet'!$B$8+IF(A53>='Retirement income worksheet'!$B$13,'Retirement income worksheet'!$B$14*12,0)+IF(A53>='Retirement income worksheet'!$B$11,'Retirement income worksheet'!$B$12*12,0) -> 84340.324
A55: DISCLAIMER: FOR EDUCATION PURPOSE ONLY. WE DO NOT PROVIDE LEGAL ADVICE, TAX ADVICE OR IMMIGRATION ADVICE
A57: ='Client Info'!B3 -> Enter Person 2 Name and Age On Client Info Tab | B57: Current Assets | C57: Monthly Contribution | D57: Beginning of Year Contribution Value | E57: Income Needed Plus Inflation | F57: =CONCATENATE("Income Produced @ ", 'Retirement income worksheet'!C8*100, "% Growth Per Year") -> Income Produced @ 4% Growth Per Year
A58: ='Client Info'!D3 -> 20 | B58: =Person2USAssets -> 10000 | C58: =IF(A3<50,'Retirement income worksheet'!$C$4,'Retirement income worksheet'!$C$5) -> 325 | D58: 0 | E58: ='Retirement income worksheet'!C10 -> 12000 | F58: =(B58+D58)*'Retirement income worksheet'!$C$8+IF(A3>='Retirement income worksheet'!$C$13,'Retirement income worksheet'!$C$14*12,0)+IF(A3>='Retirement income worksheet'!$C$11,'Retirement income worksheet'!$C$12*12,0) -> 400
A59: =A58+1 -> 21 | B59: =FV('Retirement income worksheet'!$C$6,1,0,-'Retirement income analysis'!B58) -> 10600 | C59: =IF(A4<50,'Retirement income worksheet'!$C$4,'Retirement income worksheet'!$C$5) -> 325 | D59: =C58*(((1+'Retirement income worksheet'!$C$6/12)^12-1)/('Retirement income worksheet'!$C$6/12)) -> 4009.0578 | E59: =FV('Retirement income worksheet'!$B$7,1,0,-'Retirement income analysis'!E58) -> 12360 | F59: =(B59+D59)*'Retirement income worksheet'!$C$8+IF(A4>='Retirement income worksheet'!$C$13,'Retirement income worksheet'!$C$14*12,0)+IF(A4>='Retirement income worksheet'!$C$11,'Retirement income worksheet'!$C$12*12,0) -> 584.36231
A60: =A59+1 -> 22 | B60: =FV('Retirement income worksheet'!$C$6,1,0,-'Retirement income analysis'!B59) -> 11236 | C60: =IF(A5<50,'Retirement income worksheet'!$C$4,'Retirement income worksheet'!$C$5) -> 325 | D60: =$D$59+D59*(1+'Retirement income worksheet'!$C$6) -> 8258.659 | E60: =FV('Retirement income worksheet'!$B$7,1,0,-'Retirement income analysis'!E59) -> 12730.8 | F60: =(B60+D60)*'Retirement income worksheet'!$C$8+IF(A5>='Retirement income worksheet'!$C$13,'Retirement income worksheet'!$C$14*12,0)+IF(A5>='Retirement income worksheet'!$C$11,'Retirement income worksheet'!$C$12*12,0) -> 779.78636
A61: =A60+1 -> 23 | B61: =FV('Retirement income worksheet'!$C$6,1,0,-'Retirement income analysis'!B60) -> 11910.16 | C61: =IF(A6<50,'Retirement income worksheet'!$C$4,'Retirement income worksheet'!$C$5) -> 325 | D61: =$D$59+D60*(1+'Retirement income worksheet'!$C$6) -> 12763.236 | E61: =FV('Retirement income worksheet'!$B$7,1,0,-'Retirement income analysis'!E60) -> 13112.724 | F61: =(B61+D61)*'Retirement income worksheet'!$C$8+IF(A6>='Retirement income worksheet'!$C$13,'Retirement income worksheet'!$C$14*12,0)+IF(A6>='Retirement income worksheet'!$C$11,'Retirement income worksheet'!$C$12*12,0) -> 986.93585
A62: =A61+1 -> 24 | B62: =FV('Retirement income worksheet'!$C$6,1,0,-'Retirement income analysis'!B61) -> 12624.77 | C62: =IF(A7<50,'Retirement income worksheet'!$C$4,'Retirement income worksheet'!$C$5) -> 325 | D62: =$D$59+D61*(1+'Retirement income worksheet'!$C$6) -> 17538.088 | E62: =FV('Retirement income worksheet'!$B$7,1,0,-'Retirement income analysis'!E61) -> 13506.106 | F62: =(B62+D62)*'Retirement income worksheet'!$C$8+IF(A7>='Retirement income worksheet'!$C$13,'Retirement income worksheet'!$C$14*12,0)+IF(A7>='Retirement income worksheet'!$C$11,'Retirement income worksheet'!$C$12*12,0) -> 1206.5143
A63: =A62+1 -> 25 | B63: =FV('Retirement income worksheet'!$C$6,1,0,-'Retirement income analysis'!B62) -> 13382.256 | C63: =IF(A8<50,'Retirement income worksheet'!$C$4,'Retirement income worksheet'!$C$5) -> 325 | D63: =$D$59+D62*(1+'Retirement income worksheet'!$C$6) -> 22599.431 | E63: =FV('Retirement income worksheet'!$B$7,1,0,-'Retirement income analysis'!E62) -> 13911.289 | F63: =(B63+D63)*'Retirement income worksheet'!$C$8+IF(A8>='Retirement income worksheet'!$C$13,'Retirement income worksheet'!$C$14*12,0)+IF(A8>='Retirement income worksheet'!$C$11,'Retirement income worksheet'!$C$12*12,0) -> 1439.2675
A64: =A63+1 -> 26 | B64: =FV('Retirement income worksheet'!$C$6,1,0,-'Retirement income analysis'!B63) -> 14185.191 | C64: =IF(A9<50,'Retirement income worksheet'!$C$4,'Retirement income worksheet'!$C$5) -> 325 | D64: =$D$59+D63*(1+'Retirement income worksheet'!$C$6) -> 27964.455 | E64: =FV('Retirement income worksheet'!$B$7,1,0,-'Retirement income analysis'!E63) -> 14328.628 | F64: =(B64+D64)*'Retirement income worksheet'!$C$8+IF(A9>='Retirement income worksheet'!$C$13,'Retirement income worksheet'!$C$14*12,0)+IF(A9>='Retirement income worksheet'!$C$11,'Retirement income worksheet'!$C$12*12,0) -> 1685.9858
A65: =A64+1 -> 27 | B65: =FV('Retirement income worksheet'!$C$6,1,0,-'Retirement income analysis'!B64) -> 15036.303 | C65: =IF(A10<50,'Retirement income worksheet'!$C$4,'Retirement income worksheet'!$C$5) -> 325 | D65: =$D$59+D64*(1+'Retirement income worksheet'!$C$6) -> 33651.38 | E65: =FV('Retirement income worksheet'!$B$7,1,0,-'Retirement income analysis'!E64) -> 14758.486 | F65: =(B65+D65)*'Retirement income worksheet'!$C$8+IF(A10>='Retirement income worksheet'!$C$13,'Retirement income worksheet'!$C$14*12,0)+IF(A10>='Retirement income worksheet'!$C$11,'Retirement income worksheet'!$C$12*12,0) -> 1947.5073
A66: =A65+1 -> 28 | B66: =FV('Retirement income worksheet'!$C$6,1,0,-'Retirement income analysis'!B65) -> 15938.481 | C66: =IF(A11<50,'Retirement income worksheet'!$C$4,'Retirement income worksheet'!$C$5) -> 325 | D66: =$D$59+D65*(1+'Retirement income worksheet'!$C$6) -> 39679.521 | E66: =FV('Retirement income worksheet'!$B$7,1,0,-'Retirement income analysis'!E65) -> 15201.241 | F66: =(B66+D66)*'Retirement income worksheet'!$C$8+IF(A11>='Retirement income worksheet'!$C$13,'Retirement income worksheet'!$C$14*12,0)+IF(A11>='Retirement income worksheet'!$C$11,'Retirement income worksheet'!$C$12*12,0) -> 2224.7201
A67: =A66+1 -> 29 | B67: =FV('Retirement income worksheet'!$C$6,1,0,-'Retirement income analysis'!B66) -> 16894.79 | C67: =IF(A12<50,'Retirement income worksheet'!$C$4,'Retirement income worksheet'!$C$5) -> 325 | D67: =C12*(((1+'Retirement income worksheet'!$C$6/12)^12-1)/('Retirement income worksheet'!$C$6/12))+D11*(1+'Retirement income worksheet'!$C$6) -> 46069.35 | E67: =FV('Retirement income worksheet'!$B$7,1,0,-'Retirement income analysis'!E66) -> 15657.278 | F67: =(B67+D67)*'Retirement income worksheet'!$C$8+IF(A12>='Retirement income worksheet'!$C$13,'Retirement income worksheet'!$C$14*12,0)+IF(A12>='Retirement income worksheet'!$C$11,'Retirement income worksheet'!$C$12*12,0) -> 2518.5656
A68: =A67+1 -> 30 | B68: =FV('Retirement income worksheet'!$C$6,1,0,-'Retirement income analysis'!B67) -> 17908.477 | C68: =IF(A13<50,'Retirement income worksheet'!$C$4,'Retirement income worksheet'!$C$5) -> 325 | D68: =C67*(((1+'Retirement income worksheet'!$C$6/12)^12-1)/('Retirement income worksheet'!$C$6/12))+D12*(1+'Retirement income worksheet'!$C$6) -> 52842.568 | E68: =FV('Retirement income worksheet'!$B$7,1,0,-'Retirement income analysis'!E67) -> 16126.997 | F68: =(B68+D68)*'Retirement income worksheet'!$C$8+IF(A13>='Retirement income worksheet'!$C$13,'Retirement income worksheet'!$C$14*12,0)+IF(A13>='Retirement income worksheet'!$C$11,'Retirement income worksheet'!$C$12*12,0) -> 2830.0418
A69: =A68+1 -> 31 | B69: =FV('Retirement income worksheet'!$C$6,1,0,-'Retirement income analysis'!B68) -> 18982.986 | C69: =IF(A14<50,'Retirement income worksheet'!$C$4,'Retirement income worksheet'!$C$5) -> 325 | D69: =C68*(((1+'Retirement income worksheet'!$C$6/12)^12-1)/('Retirement income worksheet'!$C$6/12))+D13*(1+'Retirement income worksheet'!$C$6) -> 60022.18 | E69: =FV('Retirement income worksheet'!$B$7,1,0,-'Retirement income analysis'!E68) -> 16610.806 | F69: =(B69+D69)*'Retirement income worksheet'!$C$8+IF(A14>='Retirement income worksheet'!$C$13,'Retirement income worksheet'!$C$14*12,0)+IF(A14>='Retirement income worksheet'!$C$11,'Retirement income worksheet'!$C$12*12,0) -> 3160.2066
A70: =A69+1 -> 32 | B70: =FV('Retirement income worksheet'!$C$6,1,0,-'Retirement income analysis'!B69) -> 20121.965 | C70: =IF(A15<50,'Retirement income worksheet'!$C$4,'Retirement income worksheet'!$C$5) -> 325 | D70: =C69*(((1+'Retirement income worksheet'!$C$6/12)^12-1)/('Retirement income worksheet'!$C$6/12))+D14*(1+'Retirement income worksheet'!$C$6) -> 67632.569 | E70: =FV('Retirement income worksheet'!$B$7,1,0,-'Retirement income analysis'!E69) -> 17109.131 | F70: =(B70+D70)*'Retirement income worksheet'!$C$8+IF(A15>='Retirement income worksheet'!$C$13,'Retirement income worksheet'!$C$14*12,0)+IF(A15>='Retirement income worksheet'!$C$11,'Retirement income worksheet'!$C$12*12,0) -> 3510.1813
A71: =A70+1 -> 33 | B71: =FV('Retirement income worksheet'!$C$6,1,0,-'Retirement income analysis'!B70) -> 21329.283 | C71: =IF(A16<50,'Retirement income worksheet'!$C$4,'Retirement income worksheet'!$C$5) -> 325 | D71: =C70*(((1+'Retirement income worksheet'!$C$6/12)^12-1)/('Retirement income worksheet'!$C$6/12))+D15*(1+'Retirement income worksheet'!$C$6) -> 75699.581 | E71: =FV('Retirement income worksheet'!$B$7,1,0,-'Retirement income analysis'!E70) -> 17622.405 | F71: =(B71+D71)*'Retirement income worksheet'!$C$8+IF(A16>='Retirement income worksheet'!$C$13,'Retirement income worksheet'!$C$14*12,0)+IF(A16>='Retirement income worksheet'!$C$11,'Retirement income worksheet'!$C$12*12,0) -> 3881.1545
...
